BEGIN:VCALENDAR
VERSION:2.0
PRODID:-//Revality Sport - ECPv6.15.20//NONSGML v1.0//EN
CALSCALE:GREGORIAN
METHOD:PUBLISH
X-ORIGINAL-URL:https://revality-sport.be
X-WR-CALDESC:Évènements pour Revality Sport
REFRESH-INTERVAL;VALUE=DURATION:PT1H
X-Robots-Tag:noindex
X-PUBLISHED-TTL:PT1H
BEGIN:VTIMEZONE
TZID:Europe/Brussels
BEGIN:DAYLIGHT
TZOFFSETFROM:+0100
TZOFFSETTO:+0200
TZNAME:CEST
DTSTART:20240331T010000
END:DAYLIGHT
BEGIN:STANDARD
TZOFFSETFROM:+0200
TZOFFSETTO:+0100
TZNAME:CET
DTSTART:20241027T010000
END:STANDARD
BEGIN:DAYLIGHT
TZOFFSETFROM:+0100
TZOFFSETTO:+0200
TZNAME:CEST
DTSTART:20250330T010000
END:DAYLIGHT
BEGIN:STANDARD
TZOFFSETFROM:+0200
TZOFFSETTO:+0100
TZNAME:CET
DTSTART:20251026T010000
END:STANDARD
BEGIN:DAYLIGHT
TZOFFSETFROM:+0100
TZOFFSETTO:+0200
TZNAME:CEST
DTSTART:20260329T010000
END:DAYLIGHT
BEGIN:STANDARD
TZOFFSETFROM:+0200
TZOFFSETTO:+0100
TZNAME:CET
DTSTART:20261025T010000
END:STANDARD
END:VTIMEZONE
BEGIN:VEVENT
DTSTART;TZID=Europe/Brussels:20251012T100000
DTEND;TZID=Europe/Brussels:20251012T170000
DTSTAMP:20260424T124340
CREATED:20250711T071854Z
LAST-MODIFIED:20251007T055649Z
UID:1350-1760263200-1760288400@revality-sport.be
SUMMARY:Compétition amicale - Tennis de table - Dimanche 12 octobre 2025
DESCRIPTION:Vous jouez au tennis de table et vous désirez vous challenger en affrontant d’autres pongistes dans une ambiance conviviale ?\nAlors bloquez votre dimanche 12 octobre 2025 et rejoignez nous au Centre Sportif du Blocry à Louvain-La-Neuve. \nRevality à l’occasion d’accueillir une manche du critérium de Tennis de table de la Ligue Handisport Francophone. C’est une compétition amicale où tout le monde peut y participer sans avoir un classement. Un tournoi qui vous permettra de mettre votre technique en application contre d’autres joueurs. \nIntéressez de partager une journée avec d’autres sportifs passionnés ? \nInscription obligatoire jusqu’au jeudi 9 octobre 2025 pour une bonne organisation\, merci à vous. \nCHANGEMENT LIEU DE L’EVENEMENT : Centre sportif de Limal – Rue Charles Jaumotte – 1300 Wavre \nPrix :  \n\ngratuit pour les affiliés à la LHF\,\n15€ pour les non affiliés à la LHF.\n\nHoraire : 10h00 à 17h00 \nAdresse : Centre Sportif du Blocry – Place des sports\, 1 – 1348 Ottignies-Louvain-La-Neuve \nCentre sportif de Limal – Rue Charles Jaumotte – 1300 Wavre \nLocal du centre sportif : B2 (fléchage dès l’entrée dans le bâtiment principal). \nPlus d’informations : info@revality-sport.be \nFormulaire d’inscription à renvoyer à honnayfrancis@gmail.com \nAu plaisir de vous voir ce dimanche 12 octobre
URL:https://revality-sport.be/evenement/competition-amicale-tennis-de-table-dimanche-12-octobre-2025/
LOCATION:Blocry
ATTACH;FMTTYPE=image/jpeg:https://revality-sport.be/wp-content/uploads/2024/10/Tennis-de-table.jpg
END:VEVENT
BEGIN:VEVENT
DTSTART;TZID=Europe/Brussels:20251027T083000
DTEND;TZID=Europe/Brussels:20251031T170000
DTSTAMP:20260424T124340
CREATED:20250808T091040Z
LAST-MODIFIED:20250808T091040Z
UID:1359-1761553800-1761930000@revality-sport.be
SUMMARY:Stage Judo - 27 au 31 octobre 2025
DESCRIPTION:Revality Sport ASBL\, en collaboration avec le Judo Club Clerlande\, organise le stage de Judo. \nL’objectif du stage est de faire découvrir le Judo tout en visant à l’inclusion de l’enfant porteur d’un handicap. \nIl se déroulera sur 5 jours : \n\nLundi 27 octobre 2025\nMardi 28 octobre 2025\nMercredi 29 octobre 2025\nJeudi 30 octobre 2025\nVendredi 31 octobre 2025\n\nDurant ce stage\, votre enfant pourra découvrir le judo avec Fabienne Charlier\, 5e Dan\, enseignante au Judo Club Clerlande. Elle sera accompagnée de son équipe de moniteurs. \n  \nInfos pratiques :\nLieu:   Salle de sport du CHN William Lennox – Allée de Clerlande\, 6 – 1340 Ottignies \nAge : Ouvert aux enfants de 4 ans à 16 ans \nContact : info@revality-sport.be. \nTéléphone : 0488/44. 90.87 \n  \nHoraire type de la journée :\n09h00 à 12h00 \nActivité sportive Judo \nPause collation (30 minutes) \n12h00 à 14h00 \nRepas de midi suivi de la plaine de jeux \n14h00 à 16h \nActivité sportive Judo \nPause collation (30 minutes) \n16h00 \nFin de la journée \n  \nGarderie :\nMatin : 8h30 à 9h00 \nSoir : 16h00 à 17h00 \nPrix:\nLe stage est au prix de 90€ pour les 5 jours. \nAttention\, le repas de midi et les collations ne sont pas incluses\, l’enfant doit les apporter. \nLes inscriptions sont ouvertes dès aujourd’hui\, alors n’attendez plus.
URL:https://revality-sport.be/evenement/stage-judo-27-au-31-octobre-2025/
LOCATION:Salle de sport – CHNWL\, Allée de Clerlande 6\, Ottignies\, 1340\, Belgique
END:VEVENT
END:VCALENDAR