BEGIN:VCALENDAR
VERSION:2.0
PRODID:-//Revality Sport - ECPv6.15.20//NONSGML v1.0//EN
CALSCALE:GREGORIAN
METHOD:PUBLISH
X-WR-CALNAME:Revality Sport
X-ORIGINAL-URL:https://revality-sport.be
X-WR-CALDESC:Évènements pour Revality Sport
REFRESH-INTERVAL;VALUE=DURATION:PT1H
X-Robots-Tag:noindex
X-PUBLISHED-TTL:PT1H
BEGIN:VTIMEZONE
TZID:Europe/Brussels
BEGIN:DAYLIGHT
TZOFFSETFROM:+0100
TZOFFSETTO:+0200
TZNAME:CEST
DTSTART:20240331T010000
END:DAYLIGHT
BEGIN:STANDARD
TZOFFSETFROM:+0200
TZOFFSETTO:+0100
TZNAME:CET
DTSTART:20241027T010000
END:STANDARD
BEGIN:DAYLIGHT
TZOFFSETFROM:+0100
TZOFFSETTO:+0200
TZNAME:CEST
DTSTART:20250330T010000
END:DAYLIGHT
BEGIN:STANDARD
TZOFFSETFROM:+0200
TZOFFSETTO:+0100
TZNAME:CET
DTSTART:20251026T010000
END:STANDARD
BEGIN:DAYLIGHT
TZOFFSETFROM:+0100
TZOFFSETTO:+0200
TZNAME:CEST
DTSTART:20260329T010000
END:DAYLIGHT
BEGIN:STANDARD
TZOFFSETFROM:+0200
TZOFFSETTO:+0100
TZNAME:CET
DTSTART:20261025T010000
END:STANDARD
END:VTIMEZONE
BEGIN:VEVENT
DTSTART;VALUE=DATE:20250804
DTEND;VALUE=DATE:20250809
DTSTAMP:20260422T091011
CREATED:20250605T085232Z
LAST-MODIFIED:20250701T135552Z
UID:1324-1754265600-1754697599@revality-sport.be
SUMMARY:Stage de Multisports - 4 au 8 août 2025
DESCRIPTION:Revality Sport organise son premier stage de multisports. \nPendant ces 5 jours\, du 4 au 8 aout 2025\, les enfants auront l’occasion de découvrir et de pratiquer une grande variété d’activités sportives\, dans un esprit de plaisir\, de coopération et de découverte. \nL’un des objectifs de ce stage est aussi de favoriser l’ouverture aux autres et le vivre-ensemble. À travers certaines activités partagées\, les enfants seront amenés à expérimenter des jeux qui les sensibilisent aux différentes façons de pratiquer le sport\, notamment en tenant compte des capacités de chacun.Cela permettra à tous les participants – enfants en situation de handicap ou non – de jouer\, apprendre et progresser ensemble\, dans un cadre bienveillant et inclusif. \nInfos pratiques :\nLieu:   Salle de sport du CHN William Lennox – Allée de Clerlande\, 6 – 1340 Ottignies \nAge : de 8 ans à 12 ans \nContact : info@revality-sport.be. \nTéléphone : 0488/44. 90.87 \n  \nHoraire type de la journée :\n09h00 à 12h00 \nActivité multisports \n12h00 à 13h30 \nRepas de midi suivi de la plaine de jeux \n13h30 à 16h \nActivité multisports \n16h00 \nFin de la journée \n  \nGarderie gratuite :\nMatin : 8h30 à 9h00 \nSoir : 16h00 à 17h00 \nPrix:\nLe stage est au prix de 90€ pour les 5 jours. \nAttention\, le repas de midi et les collations ne sont pas inclus\, l’enfant doit les apporter. \nLe nombre de place est limitée à 20 enfants afin de garantir un stage de qualité et sécurisé. \nLes inscriptions sont ouvertes dès aujourd’hui\, alors n’attendez plus. \n \n 
URL:https://revality-sport.be/evenement/stage-escalade-multisports/
END:VEVENT
END:VCALENDAR