BEGIN:VCALENDAR
VERSION:2.0
PRODID:-//Revality Sport - ECPv6.15.20//NONSGML v1.0//EN
CALSCALE:GREGORIAN
METHOD:PUBLISH
X-ORIGINAL-URL:https://revality-sport.be
X-WR-CALDESC:Évènements pour Revality Sport
REFRESH-INTERVAL;VALUE=DURATION:PT1H
X-Robots-Tag:noindex
X-PUBLISHED-TTL:PT1H
BEGIN:VTIMEZONE
TZID:Europe/Brussels
BEGIN:DAYLIGHT
TZOFFSETFROM:+0100
TZOFFSETTO:+0200
TZNAME:CEST
DTSTART:20230326T010000
END:DAYLIGHT
BEGIN:STANDARD
TZOFFSETFROM:+0200
TZOFFSETTO:+0100
TZNAME:CET
DTSTART:20231029T010000
END:STANDARD
BEGIN:DAYLIGHT
TZOFFSETFROM:+0100
TZOFFSETTO:+0200
TZNAME:CEST
DTSTART:20240331T010000
END:DAYLIGHT
BEGIN:STANDARD
TZOFFSETFROM:+0200
TZOFFSETTO:+0100
TZNAME:CET
DTSTART:20241027T010000
END:STANDARD
BEGIN:DAYLIGHT
TZOFFSETFROM:+0100
TZOFFSETTO:+0200
TZNAME:CEST
DTSTART:20250330T010000
END:DAYLIGHT
BEGIN:STANDARD
TZOFFSETFROM:+0200
TZOFFSETTO:+0100
TZNAME:CET
DTSTART:20251026T010000
END:STANDARD
END:VTIMEZONE
BEGIN:VEVENT
DTSTART;VALUE=DATE:20240506
DTEND;VALUE=DATE:20240511
DTSTAMP:20260422T074958
CREATED:20240305T103648Z
LAST-MODIFIED:20240305T112850Z
UID:1085-1714953600-1715385599@revality-sport.be
SUMMARY:Stage Judo et Multisports - 6 au 10 Mai 2024
DESCRIPTION:Revality Sport\, en collaboration avec les éducateurs sportifs du CHNWL et le Judo Club Clerlande\, organise son stage de Judo et de multisports. Le stage aura lieu durant la deuxième semaine de congé de pâques 2024. \nL’objectif des stages proposés chez Revality Sport est la mixité des enfants porteurs ou non d’un handicap. \nIl se déroulera pendant 4 jours. Le jeudi 9 Mai 2024 étant férié\, il n’y aura pas stage. \n\nLundi 6 Mai 2024\nMardi 7 Mai 2024\nMercredi 8 Mai 2024\nVendredi 10 Mai 2024\n\nDurant ce stage\, votre enfant pourra découvrir le judo avec Fabienne Charlier\, 5e Dan\, enseignante au Judo Club Clerlande.\nEn deuxième partie\, il participera à diverses activités sportives pour compléter sa journée. \nInfos pratiques :\nLieu:   Salle de sport du CHN William Lennox – Allée de Clerlande\, 6 – 1340 Ottignies \nAge : Ouvert aux enfants de 4 ans à 13 ans \nContact : info@revality-sport.be. \nTéléphone : 0488/44. 90.87 \n  \nHoraire type de la journée :\n09h00 à 12h00 \nActivité sportive Judo – Multisports \nPause collation (30 minutes) \n12h00 à 13h00 \nRepas de midi suivi de la plaine de jeux \n13h00 à 16h \nActivité sportive Judo – Multisports \nPause collation (30 minutes) \n16h00 \nFin de la journée \n  \nPrix:\nLe stage est au prix de 70€ pour les 4 jours\, collations comprises. \nAttention\, le repas de midi et les collations ne sont pas incluses\, l’enfant doit les apporter. \nLes inscriptions sont ouvertes dès aujourd’hui\, alors n’hésitez pas ! 😉
URL:https://revality-sport.be/evenement/stage-judo-et-multisports-6-au-10-mai-2024/
LOCATION:Salle de sport – CHNWL\, Allée de Clerlande 6\, Ottignies\, 1340\, Belgique
END:VEVENT
END:VCALENDAR